Workbook
Name Employee_Absence_Title: '1월'!$B$1
Name Key_name: '1월'!$B$2
Name 개인사유키: '[1]1월'!$F$2
Name 개인사유키: '[2]1월'!$F$2
Name 개인사유키: '1월'!$F$2
Name 개인사유키레이블: '1월'!$G$2
Name 달력연도: '[1]1월'!$AH$4
Name 달력연도: '[2]1월'!$AH$4
Name 달력연도: '1월'!$AH$4
Name 배경제외: #REF!
Name 배경제외: #REF!
Name 배경제외: #REF!
Name 병가키: '[1]1월'!$I$2
Name 병가키: '[2]1월'!$I$2
Name 병가키: '1월'!$I$2
Name 병가키레이블: '1월'!$J$2
Name 사용자지정키1: '[1]1월'!$L$2
Name 사용자지정키1: '[2]1월'!$L$2
Name 사용자지정키1: '1월'!$L$2
Name 사용자지정키1레이블: '1월'!$M$2
Name 사용자지정키2: '[1]1월'!$Q$2
Name 사용자지정키2: '[2]1월'!$Q$2
Name 사용자지정키2: '1월'!$Q$2
Name 사용자지정키2레이블: '1월'!$R$2
Name 신청키: '[3]1월'!$I$2
Name 없음: '5월 ~ 6월 하계방학'!#REF!
Name 없음: '7월 ~ 8월'!#REF!
Name 없음: #REF!
Name 열제목13: [1]!직원이름[[#Headers],[직원 이름]]
Name 열제목13: [2]!직원이름[[#Headers],[직원 이름]]
Name 열제목13: 직원이름[[#Headers],[직원 이름]]
Name 월이름: '1월'!$B$4
Name 월이름: '5월 ~ 6월 하계방학'!#REF!
Name 월이름: '7월 ~ 8월'!#REF!
Name 제목1: [1]!_1월[[#Headers],[직원 이름]]
Name 제목1: [2]!_1월[[#Headers],[직원 이름]]
Name 제목1: _1월[[#Headers],[직원 이름]]
Name 제목10: #REF!
Name 제목10: #REF!
Name 제목10: #REF!
Name 제목11: #REF!
Name 제목11: #REF!
Name 제목11: #REF!
Name 제목12: #REF!
Name 제목12: #REF!
Name 제목12: #REF!
Name 제목2: #REF!
Name 제목2: #REF!
Name 제목2: #REF!
Name 제목3: #REF!
Name 제목3: #REF!
Name 제목3: #REF!
Name 제목4: #REF!
Name 제목4: #REF!
Name 제목4: #REF!
Name 제목5: #REF!
Name 제목5: #REF!
Name 제목5: #REF!
Name 제목6: #REF!
Name 제목6: #REF!

Sheet 1월
B1: 직원 휴가 일정
B2: 휴가 유형 키 | C2: V | D2: 휴가 | F2: P | G2: 개인 | I2: S | J2: 병가 | M2: 사용자 지정 1 | R2: 사용자 지정 2
AH3: 연도 입력:
B4: 1월 | C4: 휴가 날짜 | AH4: 2023
C5: =TEXT(WEEKDAY(DATE(달력연도,1,1),1),"aaa") -> 일 | D5: =TEXT(WEEKDAY(DATE(달력연도,1,2),1),"aaa") -> 월 | E5: =TEXT(WEEKDAY(DATE(달력연도,1,3),1),"aaa") -> 화 | F5: =TEXT(WEEKDAY(DATE(달력연도,1,4),1),"aaa") -> 수 | G5: =TEXT(WEEKDAY(DATE(달력연도,1,5),1),"aaa") -> 목 | H5: =TEXT(WEEKDAY(DATE(달력연도,1,6),1),"aaa") -> 금 | I5: =TEXT(WEEKDAY(DATE(달력연도,1,7),1),"aaa") -> 토 | J5: =TEXT(WEEKDAY(DATE(달력연도,1,8),1),"aaa") -> 일 | K5: =TEXT(WEEKDAY(DATE(달력연도,1,9),1),"aaa") -> 월 | L5: =TEXT(WEEKDAY(DATE(달력연도,1,10),1),"aaa") -> 화 | M5: =TEXT(WEEKDAY(DATE(달력연도,1,11),1),"aaa") -> 수 | N5: =TEXT(WEEKDAY(DATE(달력연도,1,12),1),"aaa") -> 목 | O5: =TEXT(WEEKDAY(DATE(달력연도,1,13),1),"aaa") -> 금 | P5: =TEXT(WEEKDAY(DATE(달력연도,1,14),1),"aaa") -> 토 | Q5: =TEXT(WEEKDAY(DATE(달력연도,1,15),1),"aaa") -> 일 | R5: =TEXT(WEEKDAY(DATE(달력연도,1,16),1),"aaa") -> 월 | S5: =TEXT(WEEKDAY(DATE(달력연도,1,17),1),"aaa") -> 화 | T5: =TEXT(WEEKDAY(DATE(달력연도,1,18),1),"aaa") -> 수 | U5: =TEXT(WEEKDAY(DATE(달력연도,1,19),1),"aaa") -> 목 | V5: =TEXT(WEEKDAY(DATE(달력연도,1,20),1),"aaa") -> 금 | W5: =TEXT(WEEKDAY(DATE(달력연도,1,21),1),"aaa") -> 토 | X5: =TEXT(WEEKDAY(DATE(달력연도,1,22),1),"aaa") -> 일 | Y5: =TEXT(WEEKDAY(DATE(달력연도,1,23),1),"aaa") -> 월 | Z5: =TEXT(WEEKDAY(DATE(달력연도,1,24),1),"aaa") -> 화 | AA5: =TEXT(WEEKDAY(DATE(달력연도,1,25),1),"aaa") -> 수 | AB5: =TEXT(WEEKDAY(DATE(달력연도,1,26),1),"aaa") -> 목 | AC5: =TEXT(WEEKDAY(DATE(달력연도,1,27),1),"aaa") -> 금 | AD5: =TEXT(WEEKDAY(DATE(달력연도,1,28),1),"aaa") -> 토 | AE5: =TEXT(WEEKDAY(DATE(달력연도,1,29),1),"aaa") -> 일 | AF5: =TEXT(WEEKDAY(DATE(달력연도,1,30),1),"aaa") -> 월 | AG5: =TEXT(WEEKDAY(DATE(달력연도,1,31),1),"aaa") -> 화
B6: 직원 이름 | C6: 1 | D6: 2 | E6: 3 | F6: 4 | G6: 5 | H6: 6 | I6: 7 | J6: 8 | K6: 9 | L6: 10 | M6: 11 | N6: 12 | O6: 13 | P6: 14 | Q6: 15 | R6: 16 | S6: 17 | T6: 18 | U6: 19 | V6: 20 | W6: 21 | X6: 22 | Y6: 23 | Z6: 24 | AA6: 25 | AB6: 26 | AC6: 27 | AD6: 28 | AE6: 29 | AF6: 30 | AG6: 31 | AH6: 총 일수
B7: 직원 1 | E7: V | F7: V | G7: V | H7: V | O7: V | AH7: =COUNTA('1월'!$C7:$AG7) -> 5
B8: 직원 2 | G8: S | H8: S | M8: P | V8: S | AA8: V | AB8: V | AC8: V | AH8: =COUNTA('1월'!$C8:$AG8) -> 7
B9: 직원 3 | E9: P | P9: S | AE9: S | AH9: =COUNTA('1월'!$C9:$AG9) -> 3
B10: 직원 4 | I10: P | U10: V | V10: V | W10: V | AH10: =COUNTA('1월'!$C10:$AG10) -> 4
B11: 직원 5 | F11: S | G11: V | H11: V | S11: S | Z11: S | AG11: V | AH11: =COUNTA('1월'!$C11:$AG11) -> 6
B12: =월이름&" 요약" -> 1월 요약 | C12: =SUBTOTAL(103,'1월'!$C$7:$C$11) -> 0 | D12: =SUBTOTAL(103,'1월'!$D$7:$D$11) -> 0 | E12: =SUBTOTAL(103,'1월'!$E$7:$E$11) -> 2 | F12: =SUBTOTAL(103,'1월'!$F$7:$F$11) -> 2 | G12: =SUBTOTAL(103,'1월'!$G$7:$G$11) -> 3 | H12: =SUBTOTAL(103,'1월'!$H$7:$H$11) -> 3 | I12: =SUBTOTAL(103,'1월'!$I$7:$I$11) -> 1 | J12: =SUBTOTAL(103,'1월'!$J$7:$J$11) -> 0 | K12: =SUBTOTAL(103,'1월'!$K$7:$K$11) -> 0 | L12: =SUBTOTAL(103,'1월'!$L$7:$L$11) -> 0 | M12: =SUBTOTAL(103,'1월'!$M$7:$M$11) -> 1 | N12: =SUBTOTAL(103,'1월'!$N$7:$N$11) -> 0 | O12: =SUBTOTAL(103,'1월'!$O$7:$O$11) -> 1 | P12: =SUBTOTAL(103,'1월'!$P$7:$P$11) -> 1 | Q12: =SUBTOTAL(103,'1월'!$Q$7:$Q$11) -> 0 | R12: =SUBTOTAL(103,'1월'!$R$7:$R$11) -> 0 | S12: =SUBTOTAL(103,'1월'!$S$7:$S$11) -> 1 | T12: =SUBTOTAL(103,'1월'!$T$7:$T$11) -> 0 | U12: =SUBTOTAL(103,'1월'!$U$7:$U$11) -> 1 | V12: =SUBTOTAL(103,'1월'!$V$7:$V$11) -> 2 | W12: =SUBTOTAL(103,'1월'!$W$7:$W$11) -> 1 | X12: =SUBTOTAL(103,'1월'!$X$7:$X$11) -> 0 | Y12: =SUBTOTAL(103,'1월'!$Y$7:$Y$11) -> 0 | Z12: =SUBTOTAL(103,'1월'!$Z$7:$Z$11) -> 1 | AA12: =SUBTOTAL(103,'1월'!$AA$7:$AA$11) -> 1 | AB12: =SUBTOTAL(103,'1월'!$AB$7:$AB$11) -> 1 | AC12: =SUBTOTAL(103,'1월'!$AC$7:$AC$11) -> 1 | AD12: =SUBTOTAL(103,'1월'!$AD$7:$AD$11) -> 0 | AE12: =SUBTOTAL(103,'1월'!$AE$7:$AE$11) -> 1 | AF12: =SUBTOTAL(103,'1월'!$AF$7:$AF$11) -> 0 | AG12: =SUBTOTAL(103,'1월'!$AG$7:$AG$11) -> 1 | AH12: =SUBTOTAL(109,_1월[총 일수]) -> 25

Sheet 7월 ~ 8월
A1: 2026학년도 학생생활관 주요일정
B2: 구분 | C2: V | D2: 하계방학 | F2: V | G2: 추가 | I2: V | J2: 2026-2학기
B6: 7월 | C6: 주요일정 | AH6: 2026
C7: 수 | D7: 목 | E7: 금 | F7: 토 | G7: 일 | H7: 월 | I7: 화 | J7: 수 | K7: 목 | L7: 금 | M7: 토 | N7: 일 | O7: 월 | P7: 화 | Q7: 수 | R7: 목 | S7: 금 | T7: 토 | U7: 일 | V7: 월 | W7: 화 | X7: 수 | Y7: 목 | Z7: 금 | AA7: 토 | AB7: 일 | AC7: 월 | AD7: 화 | AE7: 수 | AF7: 목 | AG7: 금
B8: 일정 | C8: 1 | D8: 2 | E8: 3 | F8: 4 | G8: 5 | H8: 6 | I8: 7 | J8: 8 | K8: 9 | L8: 10 | M8: 11 | N8: 12 | O8: 13 | P8: 14 | Q8: 15 | R8: 16 | S8: 17 | T8: 18 | U8: 19 | V8: 20 | W8: 21 | X8: 22 | Y8: 23 | Z8: 24 | AA8: 25 | AB8: 26 | AC8: 27 | AD8: 28 | AE8: 29 | AF8: 30 | AG8: 31 | AH8: 총 일수
B9: 2026학년도 2학기 거주 신청(6.19~7.14) | C9: V | D9: V | E9: V | F9: V | G9: V | H9: V | I9: V | J9: V | K9: V | L9: V | M9: V | N9: V | O9: V | AH9: =COUNTA(_12월267913186[[#This Row],[1]:[31]]) -> 1
B10: 계절학기 종강 | Q10: V | AH10: =COUNTA(_12월267913186[[#This Row],[1]:[31]]) -> 1
B11: 추첨 | Y11: V | AH11: =COUNTA(_12월267913186[[#This Row],[1]:[31]]) -> 1
B12: 합격자 발표 | AD12: V | AH12: =COUNTA(_12월267913186[[#This Row],[1]:[31]]) -> 1
B13: 2학기 생활관비 납부 | AG13: V | AH13: =COUNTA(_12월267913186[[#This Row],[1]:[31]]) -> 1
AH14: =COUNTA(_12월267913186[[#This Row],[1]:[31]]) -> 1
B15: 8월 | C15: 주요일정 | AH15: 2026
C16: 토 | D16: 일 | E16: 월 | F16: 화 | G16: 수 | H16: 목 | I16: 금 | J16: 토 | K16: 일 | L16: 월 | M16: 화 | N16: 수 | O16: 목 | P16: 금 | Q16: 토 | R16: 일 | S16: 월 | T16: 화 | U16: 수 | V16: 목 | W16: 금 | X16: 토 | Y16: 일 | Z16: 월 | AA16: 화 | AB16: 수 | AC16: 목 | AD16: 금 | AE16: 토 | AF16: 일 | AG16: 월
B17: 일정 | C17: 1 | D17: 2 | E17: 3 | F17: 4 | G17: 5 | H17: 6 | I17: 7 | J17: 8 | K17: 9 | L17: 10 | M17: 11 | N17: 12 | O17: 13 | P17: 14 | Q17: 15 | R17: 16 | S17: 17 | T17: 18 | U17: 19 | V17: 20 | W17: 21 | X17: 22 | Y17: 23 | Z17: 24 | AA17: 25 | AB17: 26 | AC17: 27 | AD17: 28 | AE17: 29 | AF17: 30 | AG17: 31 | AH17: 총 일수
B18: 2학기 생활관비 납부 | C18: V | D18: V | E18: V | AH18: =COUNTA(_12월267913186[[#This Row],[1]:[31]]) -> 3
B19: 호실(룸메이트)선택 | H19: V | I19: V | AH19: =COUNTA(_12월267913186[[#This Row],[1]:[31]]) -> 2
B20: 식사 1차 신청 | J20: V | K20: V | L20: V | M20: V | N20: V | O20: V | P20: V | Q20: V | R20: V | S20: V | AH20: =COUNTA(_12월267913186[[#This Row],[1]:[31]]) -> 10
B21: 식비납부 16:00까지 | U21: V | V21: V | W21: V | AH21: =COUNTA(_12월267913186[[#This Row],[1]:[31]]) -> 3
B22: 식사 2차 신청, 취소, 변경 | AA22: V | AB22: V | AH22: =COUNTA(_12월267913186[[#This Row],[1]:[31]]) -> 2
B23: 식비납부 2차 16:00까지 | AC23: V | AH23: =COUNTA(_12월267913186[[#This Row],[1]:[31]]) -> 1
B24: 2학기 재학생 추가 신청 | F24: V | G24: V | H24: V | AH24: =COUNTA(_12월267913186[[#This Row],[1]:[31]]) -> 3
B25: 추가 합격자 발표 17:00 | M25: V | AH25: =COUNTA(_12월267913186[[#This Row],[1]:[31]]) -> 1
B26: 추가 합격자 생활관비 납부 16:00까지 | O26: V | P26: V | AH26: =COUNTA(_12월267913186[[#This Row],[1]:[31]]) -> 2
B27: 2학기 합격자 호실 확인 17:00 | W27: V | AH27: =COUNTA(_12월267913186[[#This Row],[1]:[31]]) -> 1
B28: 하계방학 거주자 퇴사, 이동 17:30까지 | Z28: V | AH28: =COUNTA(_12월267913186[[#This Row],[1]:[31]]) -> 1
B29: 2026학년 2학기 입사(8. 29 토 ~ 9. 1 화) | AE29: V | AF29: V | AG29: V | AH29: =COUNTA(_12월267913186[[#This Row],[1]:[31]]) -> 3

Sheet 5월 ~ 6월 하계방학
A1: 2026학년도 학생생활관 주요일정
B2: 구분 | C2: V | D2: 하계방학 | F2: V | G2: 하계추가 | I2: V | J2: 2026-2학기
B4: 5월 | C4: 주요일정 | AH4: 2026
C5: 금 | D5: 토 | E5: 일 | F5: 월 | G5: 화 | H5: 수 | I5: 목 | J5: 금 | K5: 토 | L5: 일 | M5: 월 | N5: 화 | O5: 수 | P5: 목 | Q5: 금 | R5: 토 | S5: 일 | T5: 월 | U5: 화 | V5: 수 | W5: 목 | X5: 금 | Y5: 토 | Z5: 일 | AA5: 월 | AB5: 화 | AC5: 수 | AD5: 목 | AE5: 금 | AF5: 토 | AG5: 일
B6: 일정 | C6: 1 | D6: 2 | E6: 3 | F6: 4 | G6: 5 | H6: 6 | I6: 7 | J6: 8 | K6: 9 | L6: 10 | M6: 11 | N6: 12 | O6: 13 | P6: 14 | Q6: 15 | R6: 16 | S6: 17 | T6: 18 | U6: 19 | V6: 20 | W6: 21 | X6: 22 | Y6: 23 | Z6: 24 | AA6: 25 | AB6: 26 | AC6: 27 | AD6: 28 | AE6: 29 | AF6: 30 | AG6: 31 | AH6: 총 일수
B7: 하계방학 거주신청(16~27) | J7: V | K7: V | L7: V | M7: V | N7: V | O7: V | P7: V | Q7: V | R7: V | S7: V | T7: V | U7: V | V7: V | W7: V | AH7: =COUNTA(_12월2511[[#This Row],[1]:[31]]) -> 14
B8: 신청결과 발표 17:00 | AC8: V | AH8: =COUNTA(_12월2511[[#This Row],[1]:[31]]) -> 1
B9: 하계방학 생활관비납부 | AE9: V | AF9: V | AG9: V | AH9: =COUNTA(_12월2511[[#This Row],[1]:[31]]) -> 3
B10: 하계방학 운영 6. 25(수) ~ 8. 25(월) | AH10: =COUNTA(_12월2511[[#This Row],[1]:[31]]) -> 0
B12: 6월 | C12: 주요일정 | AH12: 2026
C13: 월 | D13: 화 | E13: 수 | F13: 목 | G13: 금 | H13: 토 | I13: 일 | J13: 월 | K13: 화 | L13: 수 | M13: 목 | N13: 금 | O13: 토 | P13: 일 | Q13: 월 | R13: 화 | S13: 수 | T13: 목 | U13: 금 | V13: 토 | W13: 일 | X13: 월 | Y13: 화 | Z13: 수 | AA13: 목 | AB13: 금 | AC13: 토 | AD13: 일 | AE13: 월 | AF13: 화
B14: 일정 | C14: 1 | D14: 2 | E14: 3 | F14: 4 | G14: 5 | H14: 6 | I14: 7 | J14: 8 | K14: 9 | L14: 10 | M14: 11 | N14: 12 | O14: 13 | P14: 14 | Q14: 15 | R14: 16 | S14: 17 | T14: 18 | U14: 19 | V14: 20 | W14: 21 | X14: 22 | Y14: 23 | Z14: 24 | AA14: 25 | AB14: 26 | AC14: 27 | AD14: 28 | AE14: 29 | AF14: 30 | AG14: 열1 | AH14: 총 일수
B15: 생활관비납부 | C15: V | U15: 종강 | Z15: 계절 수업 | AB15: 이동 | AH15: =COUNTA(_12월25116[[#This Row],[1]:[열1]]) -> 4
B16: 호실 선택 | L16: V | AH16: =COUNTA(_12월25116[[#This Row],[1]:[열1]]) -> 1
B17: 거주호실 확인 | AH17: =COUNTA(_12월25116[[#This Row],[1]:[열1]]) -> 0
B18: 하계방학 급식신청 | G18: V | H18: V | I18: V | J18: V | K18: V | Y18: V | AH18: =COUNTA(_12월25116[[#This Row],[1]:[열1]]) -> 6
B19: 하계방학 식비납부 | M19: V | N19: V | AH19: =COUNTA(_12월25116[[#This Row],[1]:[열1]]) -> 2
B20: 하계방학 추가신청 | N20: V | O20: V | P20: V | Q20: V | AH20: =COUNTA(_12월25116[[#This Row],[1]:[열1]]) -> 4
B21: 하계방학 추가발표 17:00 | S21: V | AH21: =COUNTA(_12월25116[[#This Row],[1]:[열1]]) -> 1
B22: 하계방학 추가납부 16:00까지 | U22: V | AH22: =COUNTA(_12월25116[[#This Row],[1]:[열1]]) -> 1
B23: 하계방학 추가 호실 확인 17:00 | Y23: V | AH23: =COUNTA(_12월25116[[#This Row],[1]:[열1]]) -> 1
B24: 하계방학 급식추가신청 | V24: V | W24: V | X24: V | AH24: =COUNTA(_12월25116[[#This Row],[1]:[열1]]) -> 3
B25: 하계방학 식비추가납부 | Y25: V | AH25: =COUNTA(_12월25116[[#This Row],[1]:[열1]]) -> 1
B26: 하계방학 입사취소 | F26: V | G26: V | H26: V | I26: V | J26: V | K26: V | L26: V | M26: V | N26: V | O26: V | P26: V | Q26: V | R26: V | S26: V | T26: V | U26: V | AH26: =COUNTA(_12월25116[[#This Row],[1]:[열1]]) -> 16
B27: 1학기 퇴실점검, 호실청소 | U27: V | Z27: V | AB27: V | AH27: =COUNTA(_12월25116[[#This Row],[1]:[열1]]) -> 3 | AJ27: 종강
B28: 1학기 거주자 퇴사 | U28: V | AH28: =COUNTA(_12월25116[[#This Row],[1]:[열1]]) -> 1
B29: 하계방학 신규입사자 입사 | Z29: V | AH29: =COUNTA(_12월25116[[#This Row],[1]:[열1]]) -> 1
B30: 1학기 거주자 하계방학 호실 이동 | AB30: V | AH30: =COUNTA(_12월25116[[#This Row],[1]:[열1]]) -> 1
B31: 2026학년도 2학기 거주 신청(6.19~) | U31: V | V31: V | W31: V | X31: V | Y31: V | Z31: V | AA31: V | AB31: V | AC31: V | AD31: V | AE31: V | AF31: V | AH31: =COUNTA(_12월25116[[#This Row],[1]:[열1]]) -> 1

Sheet 직원 이름
B1: 직원 이름
B3: 직원 이름
B4: 직원 1
B5: 직원 2
B6: 직원 3
B12: 직원 4
B13: 직원 5
